BEGIN:VCALENDAR
VERSION:2.0
PRODID:icalendar-ruby
CALSCALE:GREGORIAN
METHOD:PUBLISH
BEGIN:VEVENT
DTSTAMP:20260423T092527Z
UID:9-1180691@tcac.church
DTSTART:20261101T150000Z
DTEND:20261101T161500Z
CLASS:PUBLIC
CREATED:20260422T221308
DESCRIPTION:
LAST-MODIFIED:20260422T221308
LOCATION:TCAC
SUMMARY:Sunday Worship
URL;VALUE=URI:https://www.tcac.church/events/sunday-worship/2026-11-01
END:VEVENT
END:VCALENDAR
