BEGIN:VCALENDAR
VERSION:2.0
PRODID:icalendar-ruby
CALSCALE:GREGORIAN
METHOD:PUBLISH
BEGIN:VEVENT
DTSTAMP:20260423T032227Z
UID:9-1180687@tcac.church
DTSTART:20261004T140000Z
DTEND:20261004T151500Z
CLASS:PUBLIC
CREATED:20260422T221308
DESCRIPTION:
LAST-MODIFIED:20260422T221308
LOCATION:TCAC
SUMMARY:Sunday Worship
URL;VALUE=URI:https://www.tcac.church/events/sunday-worship/2026-10-04
END:VEVENT
END:VCALENDAR
