BEGIN:VCALENDAR
VERSION:2.0
PRODID:icalendar-ruby
CALSCALE:GREGORIAN
METHOD:PUBLISH
BEGIN:VEVENT
DTSTAMP:20260423T020620Z
UID:9-1180034@tcac.church
DTSTART:20260927T140000Z
DTEND:20260927T151500Z
CLASS:PUBLIC
CREATED:20260422T191959
DESCRIPTION:
LAST-MODIFIED:20260422T191959
LOCATION:TCAC
SUMMARY:Sunday Worship
URL;VALUE=URI:https://www.tcac.church/events/sunday-worship/2026-09-27
END:VEVENT
END:VCALENDAR
