BEGIN:VCALENDAR
VERSION:2.0
PRODID:icalendar-ruby
CALSCALE:GREGORIAN
METHOD:PUBLISH
BEGIN:VEVENT
DTSTAMP:20260423T002603Z
UID:9-1180033@tcac.church
DTSTART:20260920T140000Z
DTEND:20260920T151500Z
CLASS:PUBLIC
CREATED:20260422T191959
DESCRIPTION:
LAST-MODIFIED:20260422T191959
LOCATION:TCAC
SUMMARY:Sunday Worship
URL;VALUE=URI:https://www.tcac.church/events/sunday-worship/2026-09-20
END:VEVENT
END:VCALENDAR
