BEGIN:VCALENDAR
VERSION:2.0
PRODID:icalendar-ruby
CALSCALE:GREGORIAN
METHOD:PUBLISH
BEGIN:VEVENT
DTSTAMP:20260422T202336Z
UID:9-1178726@tcac.church
DTSTART:20260830T140000Z
DTEND:20260830T151500Z
CLASS:PUBLIC
CREATED:20260422T133225
DESCRIPTION:
LAST-MODIFIED:20260422T133225
LOCATION:TCAC
SUMMARY:Sunday Worship
URL;VALUE=URI:https://www.tcac.church/events/sunday-worship/2026-08-30
END:VEVENT
END:VCALENDAR
